BEGIN:VCALENDAR
VERSION:2.0
PRODID:-//eventon.com NONSGML v1.0//EN
CALSCALE:GREGORIAN
METHOD:PUBLISH
BEGIN:VEVENT
UID:69e4c9ce5fdd8
DTSTAMP:20260419T122550Z
DTSTART:20210213T203000Z
DTEND:20210213T213000Z
LOCATION:Hickorywoods Elderberry Drive
SUMMARY:Hickorywoods Open House
DESCRIPTION:Hickorywoods Open House\nhttps://baumannbuilding.com/events/hic
 korywoods-open-house-4/
URL:https://baumannbuilding.com/events/hickorywoods-open-house-4/
END:VEVENT
END:VCALENDAR