BEGIN:VCALENDAR
VERSION:2.0
PRODID:-//eventon.com NONSGML v1.0//EN
CALSCALE:GREGORIAN
METHOD:PUBLISH
BEGIN:VEVENT
UID:69e4c9fd8494a
DTSTAMP:20260419T122637Z
DTSTART:20241214T161500Z
DTEND:20241214T171500Z
LOCATION:9447 Bluff Ridge Dr 9447 Bluff Ridge Dr
SUMMARY:9447 Bluff Ridge Dr - Open House (Bluff Lakes)
DESCRIPTION:Come see one of our beautiful communities in Zeeland! We have l
 ots available as well as spec homes completed and under construction. Can&#
 8217;t make the open house time? No problem &#8211; just call or text Tom a
 t 616-298-0210 to schedule a private tour. House will be open for walk-thro
 ugh. Baumann[..]\nhttps://baumannbuilding.com/events/9447-bluff-ridge-dr-op
 en-house-bluff-lakes-4/
URL:https://baumannbuilding.com/events/9447-bluff-ridge-dr-open-house-bluff-lakes-4/
END:VEVENT
END:VCALENDAR