BEGIN:VCALENDAR
VERSION:2.0
PRODID:-//eventon.com NONSGML v1.0//EN
CALSCALE:GREGORIAN
METHOD:PUBLISH
BEGIN:VEVENT
UID:69e888497cd96
DTSTAMP:20260422T083521Z
DTSTART:20250208T183000Z
DTEND:20250208T200000Z
LOCATION:Patriot Meadows 2747 Regan Ave
SUMMARY:2747 Reagan Ave - Open House (Patriot Meadows)
DESCRIPTION:Come see our newest community in Zeeland! We have lots availabl
 e as well as spec homes completed and under construction. Can&#8217;t make 
 the open house time? No problem &#8211; just call or text Tom at 616-298-02
 10 to schedule a private tour. House will be open for walk-through. Baumann
  Building representative[..]\nhttps://baumannbuilding.com/events/2747-reaga
 n-ave-open-house-patriot-meadows-12/
URL:https://baumannbuilding.com/events/2747-reagan-ave-open-house-patriot-meadows-12/
END:VEVENT
END:VCALENDAR