BEGIN:VCALENDAR
VERSION:2.0
PRODID:-//eventon.com NONSGML v1.0//EN
CALSCALE:GREGORIAN
METHOD:PUBLISH
BEGIN:VEVENT
UID:69e4cd7e8d9ab
DTSTAMP:20260419T124134Z
DTSTART:20250924T130000Z
DTEND:20250924T170000Z
LOCATION:11948 Smithfield Drive 11948 Smithfield Drive
SUMMARY:11948 Smithfield Drive - Open House (Smithfield)
DESCRIPTION:We have lots available as well as spec homes under construction
 . Can&#8217;t make the open house time? No problem &#8211; just call or tex
 t Tom at 616-298-0210 to schedule a private tour. House will be open for wa
 lkthrough. Baumann Building representative will be at 11913 Smithfield Driv
 e to answer questions.\nhttps://baumannbuilding.com/events/11948-smithfield
 -drive-open-house-smithfield-24/
URL:https://baumannbuilding.com/events/11948-smithfield-drive-open-house-smithfield-24/
END:VEVENT
END:VCALENDAR