BEGIN:VCALENDAR
VERSION:2.0
PRODID:-//eventon.com NONSGML v1.0//EN
CALSCALE:GREGORIAN
METHOD:PUBLISH
BEGIN:VEVENT
UID:69e4d4d172feb
DTSTAMP:20260419T131249Z
DTSTART:20251107T190000Z
DTEND:20251107T220000Z
LOCATION:3630 Tulipleaf Drive
SUMMARY:3630 Tulipleaf Drive - Open House (Hickorywoods Farms)
DESCRIPTION:Under Construction: Baldwin Spec Come see one of our newest pha
 se in Hickorywoods Farms in Holland! We have a number of lots available lot
 s\,  as well as spec homes completed and under construction. Can&#8217;t ma
 ke the open house time? No problem &#8211; just call or text Nathan at 616-
 377-9654 to[..]\nhttps://baumannbuilding.com/events/3630-tulipleaf-drive-op
 en-house-hickorywoods-farms-8/
URL:https://baumannbuilding.com/events/3630-tulipleaf-drive-open-house-hickorywoods-farms-8/
END:VEVENT
END:VCALENDAR